BEGIN:VCALENDAR
VERSION:2.0
PRODID:-//Mummolaakso - Gummedalen - ECPv6.15.16//NONSGML v1.0//EN
CALSCALE:GREGORIAN
METHOD:PUBLISH
X-WR-CALNAME:Mummolaakso - Gummedalen
X-ORIGINAL-URL:https://mummolaakso.fi
X-WR-CALDESC:Tapahtumat Mummolaakso - Gummedalen
REFRESH-INTERVAL;VALUE=DURATION:PT1H
X-Robots-Tag:noindex
X-PUBLISHED-TTL:PT1H
BEGIN:VTIMEZONE
TZID:Europe/Helsinki
BEGIN:DAYLIGHT
TZOFFSETFROM:+0200
TZOFFSETTO:+0300
TZNAME:EEST
DTSTART:20250330T010000
END:DAYLIGHT
BEGIN:STANDARD
TZOFFSETFROM:+0300
TZOFFSETTO:+0200
TZNAME:EET
DTSTART:20251026T010000
END:STANDARD
BEGIN:DAYLIGHT
TZOFFSETFROM:+0200
TZOFFSETTO:+0300
TZNAME:EEST
DTSTART:20260329T010000
END:DAYLIGHT
BEGIN:STANDARD
TZOFFSETFROM:+0300
TZOFFSETTO:+0200
TZNAME:EET
DTSTART:20261025T010000
END:STANDARD
BEGIN:DAYLIGHT
TZOFFSETFROM:+0200
TZOFFSETTO:+0300
TZNAME:EEST
DTSTART:20270328T010000
END:DAYLIGHT
BEGIN:STANDARD
TZOFFSETFROM:+0300
TZOFFSETTO:+0200
TZNAME:EET
DTSTART:20271031T010000
END:STANDARD
END:VTIMEZONE
BEGIN:VEVENT
DTSTART;TZID=Europe/Helsinki:20260505T180000
DTEND;TZID=Europe/Helsinki:20260505T200000
DTSTAMP:20260420T164821
CREATED:20260420T074103Z
LAST-MODIFIED:20260420T114319Z
UID:10000976-1778004000-1778011200@mummolaakso.fi
SUMMARY:Runokävely Helvi Juvosen ja Sirkka Meriluodon jalanjäljissä
DESCRIPTION:Runokävelyllä ulkoillaan Mäntymäen-Töölönlahden ympäristössä\, lesbisen rakkauden puhkeamista ihastellen. Viime syksyn Helvi Juvonen ja hänen taikapiirinsä -tilaisuuden jälkeen päätettiin\, että keväällä lähdetään yhdessä elämäkerran kirjoittaneen Katri Viitaniemen kanssa kävelylle Töölön kallioille tiirailemaan Helvin ja Sirkan merkillisiä puita ja lukemaan Kääpiöpuuta. \nHanki kirja ja valitse mielirunosi etukäteen! – Kääpiöpuu (1949) on Helmet-kirjastoissa tällä hetkellä lainassa ja varattuna\, mutta Kaisa-kirjastossa on yksi kappale lainattavissa. Paremmin saatavilla ovat Kootut runot (tällä nimellä useita painoksia) sekä Aukea ei koskaan metsään ovi: kootut (v. 2009/2020). \nHelvi Juvonen asui tuolloin osoitteessa Mannerheimintie 60. Kokoonnutaan sen edustalle\, kadun toisella puolella olevaan puistikkoon (’Europuisto’ Kisahallin ja Oopperan pysäkin välissä) klo 18. Siitä lähdetään kohti Mäntymäkeä ja sen takaisia kallioita päätyen lopulta Töölönlahdelle. Välillä pysähdytään lukemaan runoja. \nVillahousut jalkaan tai istuinalusta mukaan! Omasta termaristakin ehtii siemailla lämmikettä ennen kuin lopuksi päädymme kahvilaan. \n”Olemme kahden / rannalla nukkuvan Töölön lahden. / Hetki on kaupungin\, arkien pyhä\, / ehjänä säilynyt\, elävä yhä.” \n– Metsäniitty\, kokoelmasta Kääpiöpuu \n📚 📖 📚 \n”Olen viime aikoina ollut aika paljon Nallen kanssa. Olemme löytäneet eräitä mukavia ja aurinkoisia kallioita Töölön liepeiltä ja merkillisiä puiden oksia\, joiden silmujen kehittymistä on jännittävä seurata maljakossa.” Näin kirjoitti Sirkka Meriluoto sisarelleen Ailalle 9.5.1947\, kun suhde Helvi ”Nalle” Juvosen kanssa oli kääntymässä ystävyydestä kohti rakkautta. \nVuotta myöhemmin Nalle kirjoitti Sirkalleen: ”Muistatko\, että viime keväänä pienellä kallioisella metsänkaistaleella huomasin pitäväni Sinusta. Sinä metsästä löydetty kepeäjalkainen vaeltaja\, jota Jumala rakastaa\, älä unohda\, että minäkin uskallan rakastaa Sinua.” \nNäillä saatesanoilla Nalle lähetti Sirkalle rakkausrunon\, joka seuraavana vuonna julkaistiin hänen esikoiskokoelmassaan Kääpiöpuu nimellä Lumottu kevät. Se tuntuu kuvaavan töölölöisellä kalliolla koettua rakastumisen hetkeä. 💚
URL:https://mummolaakso.fi/tapahtuma/runokavely/
LOCATION:Mannerheimintie 60\, Mannerheimintie 60\, Helsinki
CATEGORIES:2026,Lukulepakot
ATTACH;FMTTYPE=image/jpeg:https://mummolaakso.fi/wp-content/uploads/2026/04/HelviJuvonenSirkkaMeriluoto-640x439-1.jpg
END:VEVENT
END:VCALENDAR